BEGIN:VCALENDAR
VERSION:2.0
PRODID:-//Squarespace Inc/Squarespace 6//v6//EN
BEGIN:VEVENT
UID:5c5fd2b26e9a7f5815fdfb31@squarespace.com
DTSTAMP:20190629T023738Z
DTSTART:20190427T093000Z
DTEND:20190427T113000Z
SUMMARY:R8 - Adelaide Croatia Raiders v MetroStars
GEO:42.176114;-83.00928
LOCATION:Croatian Sports Centre\, 61 Anna Meares Way\, Gepps Cross\, SA\, 5
 094\, Australia
END:VEVENT
END:VCALENDAR
