BEGIN:VCALENDAR
VERSION:2.0
PRODID:-//Squarespace Inc/Squarespace 6//v6//EN
BEGIN:VEVENT
UID:5c5fd1b953450a883a1eee3c@squarespace.com
DTSTAMP:20200206T113731Z
DTSTART:20190413T093000Z
DTEND:20190413T113000Z
SUMMARY:R7 - Adelaide Olympic v Adelaide Croatia Raiders
GEO:-34.8574;138.558683
LOCATION:VALO Football Centre\, 46 Cowan Street\, Angle Park\, SA\, 5010\, 
 Australia
END:VEVENT
END:VCALENDAR
