BEGIN:VCALENDAR
VERSION:2.0
PRODID:-//Squarespace Inc/Squarespace 6//v6//EN
BEGIN:VEVENT
UID:5cb13a224785d379fef91b1d@squarespace.com
DTSTAMP:20190413T012935Z
DTSTART:20190418T103000Z
DTEND:20190418T123000Z
SUMMARY:FFA Cup R2 - Tea Tree Gully v Adelaide Croatia Raiders
GEO:-34.841506;138.605882
LOCATION:Croatian Sports Centre\, 61 Anna Meares Way\, Gepps Cross\, SA\, 5
 094\, Australia
END:VEVENT
END:VCALENDAR
