BEGIN:VCALENDAR
VERSION:2.0
PRODID:-//Squarespace Inc/Squarespace 6//v6//EN
BEGIN:VEVENT
UID:5c5fcb34971a1829e8f65a5b@squarespace.com
DTSTAMP:20190323T000400Z
DTSTART:20190323T063000Z
DTEND:20190323T083000Z
SUMMARY:R5 - West Adelaide v Adelaide Croatia Raiders
GEO:-34.857402;138.558678
LOCATION:VALO Football Centre - Pitch 2\, 46 Cowan Street\, Angle Park SA 5
 010\, Australia
END:VEVENT
END:VCALENDAR
