BEGIN:VCALENDAR
VERSION:2.0
PRODID:-//Squarespace Inc/Squarespace 6//v6//EN
BEGIN:VEVENT
UID:5c5fc91a085229b582c04bda@squarespace.com
DTSTAMP:20190312T235501Z
DTSTART:20190316T000000Z
DTEND:20190316T041500Z
SUMMARY:R4 - Adelaide Croatia Raiders v Adelaide City (Res &amp\; U18)
GEO:42.176114;-83.00928
LOCATION:Croatian Sports Centre\, 61 Anna Meares Way\, Gepps Cross\, SA\, 5
 094\, Australia
END:VEVENT
END:VCALENDAR
