BEGIN:VCALENDAR
VERSION:2.0
PRODID:-//Squarespace Inc/Squarespace 6//v6//EN
BEGIN:VEVENT
UID:5c5fc3f00d929794cf52f930@squarespace.com
DTSTAMP:20190413T011020Z
DTSTART:20190301T083000Z
DTEND:20190301T103000Z
SUMMARY:R2 - South Adelaide v Adelaide Croatia Raiders (Seniors)
GEO:-35.122664;138.470735
LOCATION:O'Sullivans Beach Sports & Community Centre\, Marine Drive\, O'Sul
 livan Beach\, SA\, 5166\, Australia
END:VEVENT
END:VCALENDAR
