BEGIN:VCALENDAR
VERSION:2.0
PRODID:-//Squarespace Inc/Squarespace 6//v6//EN
BEGIN:VEVENT
UID:5c5fc9a7f9619ad35473d070@squarespace.com
DTSTAMP:20190302T004009Z
DTSTART:20190303T023000Z
DTEND:20190303T100000Z
SUMMARY:R2 - South Adelaide v Adelaide Croatia Raiders
GEO:-35.122664;138.470735
LOCATION:O'Sullivans Beach Sports & Community Centre\, Marine Drive\, O'Sul
 livan Beach\, SA\, 5166\, Australia
END:VEVENT
END:VCALENDAR
