BEGIN:VCALENDAR
VERSION:2.0
PRODID:-//Squarespace Inc/Squarespace 6//v6//EN
BEGIN:VEVENT
UID:5c5fc11da4222fa3c7d83fd2@squarespace.com
DTSTAMP:20200206T114950Z
DTSTART:20190223T043000Z
DTEND:20190223T063000Z
SUMMARY:R1 - Adelaide Croatia Raiders v Adelaide United FC
GEO:-34.841506;138.605882
LOCATION:Croatian Sports Centre\, 61 Anna Meares Way\, Gepps Cross\, SA\, 5
 094\, Australia
END:VEVENT
END:VCALENDAR
