BEGIN:VCALENDAR
VERSION:2.0
PRODID:-//Squarespace Inc/Squarespace 6//v6//EN
BEGIN:VEVENT
UID:5db17f243255d740e12787d2@squarespace.com
DTSTAMP:20191024T104646Z
DTSTART:20191208T023000Z
DTEND:20191208T041500Z
SUMMARY:Annual General Meeting - 2019
GEO:-34.841506;138.605882
LOCATION:Croatian Sports Centre\, 61 Anna Meares Way\, Gepps Cross\, SA\, 5
 094\, Australia
END:VEVENT
END:VCALENDAR
