BEGIN:VCALENDAR
VERSION:2.0
PRODID:-//Squarespace Inc/Squarespace 6//v6//EN
BEGIN:VEVENT
UID:5db186e1aa45d66460e7e3a8@squarespace.com
DTSTAMP:20191224T000011Z
DTSTART:20191108T230000Z
DTEND:20191109T003000Z
SUMMARY:Juniors Trials - Season 2020 - MINIROOS - Ages 5–8
GEO:-34.841506;138.605882
LOCATION:Croatian Sports Centre\, 61 Anna Meares Way\, Gepps Cross\, SA\, 5
 094\, Australia
END:VEVENT
END:VCALENDAR
