BEGIN:VCALENDAR
VERSION:2.0
PRODID:-//Squarespace Inc/Squarespace 6//v6//EN
BEGIN:VEVENT
UID:5db177c4049ad83d673beeb9@squarespace.com
DTSTAMP:20191024T101012Z
DTSTART:20191105T080000Z
DTEND:20191105T093000Z
SUMMARY:Juniors Trials - Season 2020 - BOYS - U17
END:VEVENT
END:VCALENDAR
