BEGIN:VCALENDAR
VERSION:2.0
PRODID:-//Squarespace Inc/Squarespace 6//v6//EN
BEGIN:VEVENT
UID:5db51ef7820b8d29023bc42d@squarespace.com
DTSTAMP:20191027T044001Z
DTSTART:20191109T223000Z
DTEND:20191110T003000Z
SUMMARY:Seniors Womens\, Girls U17 &amp\; U15 Trials - Season 2020
GEO:-34.841506;138.605882
LOCATION:Croatian Sports Centre\, 61 Anna Meares Way\, Gepps Cross\, SA\, 5
 094\, Australia
END:VEVENT
END:VCALENDAR
