BEGIN:VCALENDAR
VERSION:2.0
PRODID:-//Squarespace Inc/Squarespace 6//v6//EN
BEGIN:VEVENT
UID:5d848267700d9b417bd6d32d@squarespace.com
DTSTAMP:20190920T074205Z
DTSTART:20191008T223000Z
DTEND:20191009T023000Z
SUMMARY:Juniors School Holiday Coaching Clinics
END:VEVENT
END:VCALENDAR
