BEGIN:VCALENDAR
VERSION:2.0
PRODID:-//Squarespace Inc/Squarespace 6//v6//EN
BEGIN:VEVENT
UID:5d8481ca16230547f7e4181f@squarespace.com
DTSTAMP:20190920T074023Z
DTSTART:20191007T223000Z
DTEND:20191008T023000Z
SUMMARY:Juniors School Holiday Coaching Clinics
END:VEVENT
END:VCALENDAR
