BEGIN:VCALENDAR
VERSION:2.0
PRODID:-//Squarespace Inc/Squarespace 6//v6//EN
BEGIN:VEVENT
UID:5d733c388a25874e50948e47@squarespace.com
DTSTAMP:20191027T043711Z
DTSTART:20191003T090000Z
DTEND:20191003T103000Z
SUMMARY:Womens Trials - Season 2020
END:VEVENT
END:VCALENDAR
