BEGIN:VCALENDAR
VERSION:2.0
PRODID:-//Squarespace Inc/Squarespace 6//v6//EN
BEGIN:VEVENT
UID:5d733ac360b76e52ed1c7acc@squarespace.com
DTSTAMP:20190920T062435Z
DTSTART:20191003T080000Z
DTEND:20191003T093000Z
SUMMARY:Juniors Trials - Season 2020 - GIRLS - All Ages
END:VEVENT
END:VCALENDAR
