BEGIN:VCALENDAR
VERSION:2.0
PRODID:-//Squarespace Inc/Squarespace 6//v6//EN
BEGIN:VEVENT
UID:5d733b0bbec4676467317ad2@squarespace.com
DTSTAMP:20190920T063300Z
DTSTART:20191003T080000Z
DTEND:20191003T093000Z
SUMMARY:Juniors Trials - Season 2020 - BOYS - U12 &amp\; U13
END:VEVENT
END:VCALENDAR
