BEGIN:VCALENDAR
VERSION:2.0
PRODID:-//Squarespace Inc/Squarespace 6//v6//EN
BEGIN:VEVENT
UID:5d8473bbde76272c68dcc01c@squarespace.com
DTSTAMP:20190920T063835Z
DTSTART:20191002T090000Z
DTEND:20191002T103000Z
SUMMARY:Juniors Trials - Season 2020 - BOYS - U16 &amp\; U17
END:VEVENT
END:VCALENDAR
