BEGIN:VCALENDAR
VERSION:2.0
PRODID:-//Squarespace Inc/Squarespace 6//v6//EN
BEGIN:VEVENT
UID:5d7795684a4ed7208f766f28@squarespace.com
DTSTAMP:20190920T063615Z
DTSTART:20191002T080000Z
DTEND:20191002T093000Z
SUMMARY:Juniors Trials - Season 2020 - BOYS - U10 &amp\; U11
END:VEVENT
END:VCALENDAR
