BEGIN:VCALENDAR
VERSION:2.0
PRODID:-//Squarespace Inc/Squarespace 6//v6//EN
BEGIN:VEVENT
UID:5d847494e6616a10831f1481@squarespace.com
DTSTAMP:20190920T071419Z
DTSTART:20191010T080000Z
DTEND:20191010T093000Z
SUMMARY:Seniors Trials - Season 2020 - U18
END:VEVENT
END:VCALENDAR
