BEGIN:VCALENDAR
VERSION:2.0
PRODID:-//Squarespace Inc/Squarespace 6//v6//EN
BEGIN:VEVENT
UID:5d848288c0a6db1a51999f01@squarespace.com
DTSTAMP:20190920T074225Z
DTSTART:20191009T223000Z
DTEND:20191010T023000Z
SUMMARY:Juniors School Holiday Coaching Clinics
END:VEVENT
END:VCALENDAR
