BEGIN:VCALENDAR
VERSION:2.0
PRODID:-//Squarespace Inc/Squarespace 6//v6//EN
BEGIN:VEVENT
UID:5d7794e417a6561ab4d48338@squarespace.com
DTSTAMP:20191024T111129Z
DTSTART:20191004T080000Z
DTEND:20191004T090000Z
SUMMARY:Juniors Trials - Season 2020 - BOYS - U6 U7 U8 U9
END:VEVENT
END:VCALENDAR
