BEGIN:VCALENDAR
VERSION:2.0
PRODID:-//Squarespace Inc/Squarespace 6//v6//EN
BEGIN:VEVENT
UID:5d733d518a25874e5094947a@squarespace.com
DTSTAMP:20190920T063633Z
DTSTART:20191001T080000Z
DTEND:20191001T093000Z
SUMMARY:Juniors Trials - Season 2020 - BOYS - U12 &amp\; U13
END:VEVENT
END:VCALENDAR
